BEGIN:VCALENDAR
VERSION:2.0
PRODID:-//Photography Schoolhouse - ECPv6.3.3.1//NONSGML v1.0//EN
CALSCALE:GREGORIAN
METHOD:PUBLISH
X-WR-CALNAME:Photography Schoolhouse
X-ORIGINAL-URL:https://photographyschoolhouse.com
X-WR-CALDESC:Events for Photography Schoolhouse
REFRESH-INTERVAL;VALUE=DURATION:PT1H
X-Robots-Tag:noindex
X-PUBLISHED-TTL:PT1H
BEGIN:VTIMEZONE
TZID:UTC
BEGIN:STANDARD
TZOFFSETFROM:+0000
TZOFFSETTO:+0000
TZNAME:UTC
DTSTART:20170101T000000
END:STANDARD
TZID:America/New_York
BEGIN:DAYLIGHT
TZOFFSETFROM:-0500
TZOFFSETTO:-0400
TZNAME:EDT
DTSTART:20170312T070000
END:DAYLIGHT
BEGIN:STANDARD
TZOFFSETFROM:-0400
TZOFFSETTO:-0500
TZNAME:EST
DTSTART:20171105T060000
END:STANDARD
END:VTIMEZONE
BEGIN:VEVENT
DTSTART;TZID=UTC:20170324T080000
DTEND;TZID=UTC:20170324T090000
DTSTAMP:20260422T115521
CREATED:20150201T204543Z
LAST-MODIFIED:20161129T140050Z
UID:2435-1490342400-1490346000@photographyschoolhouse.com
SUMMARY:Send out Fairy Day Promo
DESCRIPTION:Distribute printed cards\, email blast and Facebook posting
URL:https://photographyschoolhouse.com/psh-event/send-out-fairy-day-promo/
CATEGORIES:Send Promo
END:VEVENT
BEGIN:VEVENT
DTSTART;TZID=UTC:20170312T080000
DTEND;TZID=UTC:20170312T090000
DTSTAMP:20260422T115521
CREATED:20150201T231002Z
LAST-MODIFIED:20161129T135856Z
UID:2451-1489305600-1489309200@photographyschoolhouse.com
SUMMARY:Send out Pet Days Promo
DESCRIPTION:
URL:https://photographyschoolhouse.com/psh-event/send-out-pet-days-promo/
CATEGORIES:Send Promo
END:VEVENT
BEGIN:VEVENT
DTSTART;TZID=UTC:20170217T080000
DTEND;TZID=UTC:20170217T090000
DTSTAMP:20260422T115521
CREATED:20150201T200956Z
LAST-MODIFIED:20161129T135614Z
UID:2428-1487318400-1487322000@photographyschoolhouse.com
SUMMARY:Send Promo Easter Bunny shoot
DESCRIPTION:
URL:https://photographyschoolhouse.com/psh-event/send-promo-easter-bunny-shoot/
CATEGORIES:Send Promo
END:VEVENT
BEGIN:VEVENT
DTSTART;TZID=UTC:20170210T080000
DTEND;TZID=UTC:20170210T090000
DTSTAMP:20260422T115521
CREATED:20150201T202534Z
LAST-MODIFIED:20161129T135344Z
UID:2433-1486713600-1486717200@photographyschoolhouse.com
SUMMARY:Print Easter Bunny Promo
DESCRIPTION:
URL:https://photographyschoolhouse.com/psh-event/distribute-easter-bunny-promo/
CATEGORIES:Send Promo,Send to Press
END:VEVENT
BEGIN:VEVENT
DTSTART;TZID=America/New_York:20170119T080000
DTEND;TZID=America/New_York:20170119T170000
DTSTAMP:20260422T115521
CREATED:20170116T161633Z
LAST-MODIFIED:20170116T161633Z
UID:5003-1484812800-1484845200@photographyschoolhouse.com
SUMMARY:Winter Headshot Sale - Let's get the word out.
DESCRIPTION:Post this ad to all your social media pages\, as well as cross posting in into appropriate FB groups in your local area. \nGet the promo cards out to your affiliate stores.
URL:https://photographyschoolhouse.com/psh-event/winter-headshot-sale-lets-get-the-word-out/
CATEGORIES:Send Promo
END:VEVENT
BEGIN:VEVENT
DTSTART;TZID=UTC:20170117T080000
DTEND;TZID=UTC:20170117T170000
DTSTAMP:20260422T115521
CREATED:20151203T005558Z
LAST-MODIFIED:20170115T171455Z
UID:3226-1484640000-1484672400@photographyschoolhouse.com
SUMMARY:Distribute Super Silly Cyber Sale
DESCRIPTION:Let's get the message out. Distribute hard copies\, and post social media
URL:https://photographyschoolhouse.com/psh-event/distribute-2016-super-silly-cyber-sale/
CATEGORIES:Send Promo
END:VEVENT
BEGIN:VEVENT
DTSTART;TZID=UTC:20170109T080000
DTEND;TZID=UTC:20170109T170000
DTSTAMP:20260422T115521
CREATED:20151125T025307Z
LAST-MODIFIED:20170115T171308Z
UID:3154-1483948800-1483981200@photographyschoolhouse.com
SUMMARY:Start Winter "Black and White" Sale Distribution and Promo
DESCRIPTION:
URL:https://photographyschoolhouse.com/psh-event/start-winter-black-and-white-sale-distribution-and-promo/
CATEGORIES:Send Promo
END:VEVENT
BEGIN:VEVENT
DTSTART;TZID=America/New_York:20170103T080000
DTEND;TZID=America/New_York:20170103T090000
DTSTAMP:20260422T115521
CREATED:20150209T040934Z
LAST-MODIFIED:20160405T142810Z
UID:2468-1483430400-1483434000@photographyschoolhouse.com
SUMMARY:Distribute Valentine Promo
DESCRIPTION:
URL:https://photographyschoolhouse.com/psh-event/distribute-valentine-promo/
CATEGORIES:Send Promo
END:VEVENT
BEGIN:VEVENT
DTSTART;TZID=UTC:20170101T080000
DTEND;TZID=UTC:20170101T170000
DTSTAMP:20260422T115521
CREATED:20151203T003325Z
LAST-MODIFIED:20161129T134710Z
UID:3220-1483257600-1483290000@photographyschoolhouse.com
SUMMARY:Distribute Wedding Promo
DESCRIPTION:Some wedding shows start right after New Years so it's time we had our material distributed. \nEven if we're not attending a show\, if we get our promo out\, we may scoop up some leads that might otherwise book with a show photographer.
URL:https://photographyschoolhouse.com/psh-event/distribute-wedding-promo/
CATEGORIES:Send Promo
END:VEVENT
END:VCALENDAR